BEGIN:VCALENDAR
VERSION:2.0
PRODID:-//Plone.org//NONSGML plone.app.event//EN
X-WR-TIMEZONE:Atlantic/Madeira
BEGIN:VEVENT
SUMMARY:Prova Fevereiro
DTSTART;VALUE=DATE:20260207
DTEND;VALUE=DATE:20260209
DTSTAMP;VALUE=DATE-TIME:20260420T104549Z
UID:d7ffd38a5e0a4d6aa9d304eacae2a011@web.home:8080
CREATED;VALUE=DATE-TIME:20240106T200433Z
DESCRIPTION:Adiada para o fim de semana de 21-22 Fev e finalmente cancelad
 a devido à meteorologia desfavorável.
LAST-MODIFIED;VALUE=DATE-TIME:20260309T120604Z
URL:https://voolivremadeira.com/pt-pt/competicoes/provas/prova-fevereiro
END:VEVENT
END:VCALENDAR
